BEGIN:VCALENDAR
VERSION:2.0
PRODID:-//Friends of  MacArthur Beach State Park, Inc. - ECPv6.15.20//NONSGML v1.0//EN
CALSCALE:GREGORIAN
METHOD:PUBLISH
X-WR-CALNAME:Friends of  MacArthur Beach State Park, Inc.
X-ORIGINAL-URL:https://macarthurbeach.org
X-WR-CALDESC:Events for Friends of  MacArthur Beach State Park, Inc.
REFRESH-INTERVAL;VALUE=DURATION:PT1H
X-Robots-Tag:noindex
X-PUBLISHED-TTL:PT1H
BEGIN:VTIMEZONE
TZID:America/New_York
BEGIN:DAYLIGHT
TZOFFSETFROM:-0500
TZOFFSETTO:-0400
TZNAME:EDT
DTSTART:20250309T070000
END:DAYLIGHT
BEGIN:STANDARD
TZOFFSETFROM:-0400
TZOFFSETTO:-0500
TZNAME:EST
DTSTART:20251102T060000
END:STANDARD
BEGIN:DAYLIGHT
TZOFFSETFROM:-0500
TZOFFSETTO:-0400
TZNAME:EDT
DTSTART:20260308T070000
END:DAYLIGHT
BEGIN:STANDARD
TZOFFSETFROM:-0400
TZOFFSETTO:-0500
TZNAME:EST
DTSTART:20261101T060000
END:STANDARD
BEGIN:DAYLIGHT
TZOFFSETFROM:-0500
TZOFFSETTO:-0400
TZNAME:EDT
DTSTART:20270314T070000
END:DAYLIGHT
BEGIN:STANDARD
TZOFFSETFROM:-0400
TZOFFSETTO:-0500
TZNAME:EST
DTSTART:20271107T060000
END:STANDARD
END:VTIMEZONE
BEGIN:VEVENT
DTSTART;TZID=America/New_York:20260425T083000
DTEND;TZID=America/New_York:20260425T120000
DTSTAMP:20260422T183738
CREATED:20221107T142639Z
LAST-MODIFIED:20260323T122301Z
UID:16759-1777105800-1777118400@macarthurbeach.org
SUMMARY:Great American Cleanup
DESCRIPTION:Join us on April 25th from 8:30am – noon for the Great American Cleanup and help keep the beach at John D. MacArthur Beach State Park clean. Beach cleanups help remove trash which might otherwise end up endangering sea turtles or shorebirds. Participants will receive a free 2026 Great American Cleanup shirt and will be provided with gloves and buckets. Please bring a reusable water bottle\, hat and sunscreen. Community service hours will be given upon request. The Great American Cleanup\, a project of Keep America Beautiful Inc.\, is coordinated locally by Keep Palm Beach County Beautiful Inc. and the Solid Waste Authority of Palm Beach County (SWA). Volunteers receive free park admission. Register today by contacting Art Carton: Arthur.Carton@FloridaDEP.gov
URL:https://macarthurbeach.org/event/beach-cleanup-11/
LOCATION:John D. MacArthur Beach State Park\, 10900 Jack Nicklaus Drive\, North Palm Beach\, FL\, 33408\, United States
ATTACH;FMTTYPE=image/jpeg:https://macarthurbeach.org/wp-content/uploads/junior-friends.jpg
END:VEVENT
BEGIN:VEVENT
DTSTART;TZID=America/New_York:20260426T130000
DTEND;TZID=America/New_York:20260426T150000
DTSTAMP:20260422T183738
CREATED:20220913T214452Z
LAST-MODIFIED:20260323T122651Z
UID:16543-1777208400-1777215600@macarthurbeach.org
SUMMARY:Live Music: Jacksonian Music Factory
DESCRIPTION:Join us for live folk music with Jacksonian Music Factory in our beautiful outdoor amphitheater.
URL:https://macarthurbeach.org/event/live-music-jacksonian-music-factory/
LOCATION:John D. MacArthur Beach State Park\, 10900 Jack Nicklaus Drive\, North Palm Beach\, FL\, 33408\, United States
ATTACH;FMTTYPE=image/jpeg:https://macarthurbeach.org/wp-content/uploads/Jacksonian-Music-Factory-2024-25.jpg
END:VEVENT
BEGIN:VEVENT
DTSTART;TZID=America/New_York:20260510T130000
DTEND;TZID=America/New_York:20260510T133000
DTSTAMP:20260422T183738
CREATED:20230906T140952Z
LAST-MODIFIED:20260413T153834Z
UID:18817-1778418000-1778419800@macarthurbeach.org
SUMMARY:Secret Lives of Snakes
DESCRIPTION:Meet our snake ambassadors and learn about their habits and habitats! Meet in the amphitheater at 1p.m. This program is good for all ages. Free with Park Admission.
URL:https://macarthurbeach.org/event/secret-lives-of-snakes/
LOCATION:FL
ATTACH;FMTTYPE=image/jpeg:https://macarthurbeach.org/wp-content/uploads/Snake_cropped_forweb-scaled.jpg
END:VEVENT
BEGIN:VEVENT
DTSTART;TZID=America/New_York:20260516T090000
DTEND;TZID=America/New_York:20260516T110000
DTSTAMP:20260422T183738
CREATED:20221107T142526Z
LAST-MODIFIED:20260417T130350Z
UID:16757-1778922000-1778929200@macarthurbeach.org
SUMMARY:Beach Cleanup
DESCRIPTION:Beach Cleanups!\nJoin us for a few hours of sun and surf and help keep MacArthur Beach State Park clean. Beach cleanups help remove trash which might otherwise end up endangering sea turtles or shorebirds. Participants will receive gloves and buckets. Please bring a reusable water bottle\, hat and sunscreen. Community service hours will be given upon request.
URL:https://macarthurbeach.org/event/beach-cleanup-9/
LOCATION:John D. MacArthur Beach State Park\, 10900 Jack Nicklaus Drive\, North Palm Beach\, FL\, 33408\, United States
ATTACH;FMTTYPE=image/jpeg:https://macarthurbeach.org/wp-content/uploads/junior-friends.jpg
END:VEVENT
BEGIN:VEVENT
DTSTART;TZID=America/New_York:20260516T090000
DTEND;TZID=America/New_York:20260516T120000
DTSTAMP:20260422T183738
CREATED:20240426T183309Z
LAST-MODIFIED:20260402T144456Z
UID:19407-1778922000-1778932800@macarthurbeach.org
SUMMARY:Junior Ranger Jamboree
DESCRIPTION:Calling all Junior Rangers! Join us on Saturday\, May 16th at MacArthur Beach State Park from 9am – noon for a day all about the Florida State Parks Junior Ranger program. This event is a great way for kids to spend the day a John D. MacArthur Beach State Park\, learn about Florida’s natural and cultural resources and make new friends. Kids of all ages will have the opportunity to earn the Junior Ranger member ID card\, badge\, and patch! Complete fun activities and earn stamps in your Junior Ranger passport. This event is free with park admission. Recommended for ages 5 and up. \nEvent schedule:\n9AM-12PM: Junior Ranger Activities\n– Collect your Junior Ranger Core Packet & Badge.\n– Participate in activities to earn stamps in your Passport. \n10:30AM & 11:30AM: Junior Ranger Ceremony\n– Take the Junior Ranger Pledge with a Park Ranger.\n– Show us your completed Packet to earn your Patch. \n12-1PM: Picnic with a Park Ranger\n– Bring a picnic lunch to enjoy with your family & visit with Park Rangers. \n 
URL:https://macarthurbeach.org/event/junior-ranger-jamboree/
LOCATION:John D. MacArthur Beach State Park\, 10900 Jack Nicklaus Drive\, North Palm Beach\, FL\, 33408\, United States
ATTACH;FMTTYPE=image/jpeg:https://macarthurbeach.org/wp-content/uploads/Jamboree2crop-scaled.jpg
END:VEVENT
BEGIN:VEVENT
DTSTART;TZID=America/New_York:20260516T183000
DTEND;TZID=America/New_York:20260516T203000
DTSTAMP:20260422T183738
CREATED:20230123T184905Z
LAST-MODIFIED:20260421T174123Z
UID:17099-1778956200-1778963400@macarthurbeach.org
SUMMARY:MacBeach Sunset Kayak Tour
DESCRIPTION:Join us on Saturday\, May 16th from 6:30pm-8:30pm to explore our estuary at sunset! Register you and a friend for the MacBeach sunset kayak tours. Our small group tours\, led by expert guides\, ensure an unforgettable experience! Spaces are limited\, register today. \nFor more information visit: https://macarthurbeach.org/sunset-kayak-tour/  \nClick here to register! \nThe South Paddle Launch is within MacArthur Beach State Park\, but not in the main area. It is less than one mile south of the main Park entrance on the west side of Jack Nicklaus Dr.
URL:https://macarthurbeach.org/event/macbeach-sunset-kayak-tour/
LOCATION:John D. MacArthur Beach State Park\, 10900 Jack Nicklaus Drive\, North Palm Beach\, FL\, 33408\, United States
ATTACH;FMTTYPE=image/jpeg:https://macarthurbeach.org/wp-content/uploads/image7-scaled.jpeg
END:VEVENT
BEGIN:VEVENT
DTSTART;TZID=America/New_York:20260524T130000
DTEND;TZID=America/New_York:20260524T150000
DTSTAMP:20260422T183738
CREATED:20230104T145121Z
LAST-MODIFIED:20260420T143534Z
UID:17029-1779627600-1779634800@macarthurbeach.org
SUMMARY:Live Music: Gypsy Strings Revival
DESCRIPTION:Join us for live music with Gypsy Strings Revival in our beautiful outdoor amphitheater.
URL:https://macarthurbeach.org/event/live-music-gypsy-strings-revival/
LOCATION:John D. MacArthur Beach State Park\, 10900 Jack Nicklaus Drive\, North Palm Beach\, FL\, 33408\, United States
ATTACH;FMTTYPE=image/jpeg:https://macarthurbeach.org/wp-content/uploads/Gypsy-Strings_Sept-2024-scaled.jpg
END:VEVENT
END:VCALENDAR